BEGIN:VCALENDAR
VERSION:2.0
PRODID:-//light-land - ECPv4.6.9//NONSGML v1.0//EN
CALSCALE:GREGORIAN
METHOD:PUBLISH
X-WR-CALNAME:light-land
X-ORIGINAL-URL:https://light-land.com
X-WR-CALDESC:Veranstaltungen für light-land
BEGIN:VEVENT
DTSTART;VALUE=DATE:20211001
DTEND;VALUE=DATE:20211009
DTSTAMP:20260420T090404
CREATED:20160405T110137Z
LAST-MODIFIED:20200822T132506Z
UID:679-1633046400-1633737599@light-land.com
SUMMARY:Dead Sea Energy Coaching mit Olga Böhme
DESCRIPTION:FÜR WEN UND WOFÜR IST DIESE REISE GEDACHT?\nDIE MEISTEN MENSCHEN GLAUBEN\, DASS SIE AUF HILFE ANDERER ANGEWIESEN SIND\, UM MIT STRESS UMZUGEHEN\, SICH VON EINEM BURNOUT ZU ERHOLEN\, DEN VERLUST EINES GELIEBTEN MENSCHEN ZU ÜBERWINDEN ODER SICH EINFACH MIT GUTER LEBENSENERGIE „AUFZULADEN“. ZUM GLÜCK IST DEM NICHT SO. JEDER VON UNS HAT EINEN GROSEN VORRAT AN GEISTIGEN UND KÖRPERLICHEN KRÄFTEN. \nDAS PROBLEM IST\, DASS WIR NICHT IMMER WISSEN\, WIE WIR DIESES INNERE ENERGIEPOTENZIAL ERSCHLIESSEN UND NUTZEN KÖNNEN. AUF DIESER REISE WERDE ICH IHNEN HELFEN\, IHRE VERSCHLOSSENEN ENERGIE TÜREN ZU ÖFFNEN UND ZU LERNEN\, DIE EIGENEN GEISTIGEN\, EMOTIONALEN UND PHYSISCHEN RESSOURCEN ZU STEUERN\, VON DENEN SIE WAHRSCHEINLICH NICHT EINMAL ETWAS WISSEN. SICHER WERDEN SIE SICH FRAGEN: WIE GENAU SOLL DAS GESCHEHEN? KURZ GESAGT: ES GIBT EINIGE METHODEN\, DIE UNS HELFEN WERDEN: \n1) ANEIGNEN VON GRUPPENSPEZIFISCHEN UND PERSÖNLICHEN MEDITATIVEN PRAKTIKEN. ÜBUNGEN\, DIE IHRE VERBORGENEN ENERGIERESSOURCEN AUFDECKEN.\n2) SELBSTSTÄNDIGE ARBEIT IN MINI GRUPPEN (2-3 PERSONEN) ZU DEN GESTELLTEN FRAGEN/AUFGABEN\, GEFOLGT VON EINER DISKUSSION ALLER REISETEILNEHMER.\n3) Wir werden energetisch- besondere Orte besuchen und dort unter meiner Leitung  spezielle Meditationen machen. Ich werde euch beibringen\, wie man an solchen Plätzen mit hohen Energien kommuniziert.\nTHEMEN UNSERER TAGESSEMINARE \nSEMINAR 1 \nENERGIE DER FEINEN SCHWINGUNGEN: WAS IST DAS UND WARUM IST ES IN UNSEREM TÄGLICHEN LEBEN WICHTIG? WIE WIRKT SICH UNSER TUN UND HANDELN DARAUF AUS? BEFREIUNG VON STRESS UND ERFÜLLUNG MIT FRIEDEN UND HARMONIE \nSEMINAR 2 \nDIE EBENE DER EMOTIONEN: WIE BEEINFLUSST SIE UNSEREN ENERGIEZUSTAND? WAS IST DAS „ZWEITE ENERGIEZENTRUM“ UND WIE LERNT MAN\, ES ZU KONTROLLIEREN UND ZU FÜLLEN? WIE WIRD MAN DIE UNNÖTIGE LAST VERGANGENER SITUATIONEN UND FEHLER LOS? \nSEMINAR 3 \nUNSERE WÜNSCHE: WIE FORMULIEREN WIR SIE RICHTIG? WAS IST DAS „DRITTE ENERGIEZENTRUM“ UND WIE KANN MAN ES REINIGEN UND FÜLLEN? \nSEMINAR 4 \nUNSERE ENERGETISCHEN BEZIEHUNGEN. WAS IST DAS „VIERTE ENERGIEZENTRUM“ UND WIE KANN MAN ES FREIGEBEN UND FÜLLEN? \nSEMINAR 5 \nENTDECKUNG UNSERER VERBORGENEN KREATIVEN FÄHIGKEITEN. WAS IST DAS „FÜNFTE ENERGIEZENTRUM“? \nSEMINAR 6 \nBEWUSSTSEIN UND SCHAFFUNG EINER EIGENEN NEUEN REALITÄT. MEDITATION „DIE VERGANGENHEIT SCHLIESSEN“ \nSEMINAR 7 \nVERSCHMELZUNG DES GEISTIGEN UND MATERIELLEN ZU EINER ERFOLGREICHEN REALISIERUNG HIER UND JETZT. \nBESPRECHUNG DES GELERNTEN: WIE WIR ES NUTZEN WERDEN UND WIE SICH UNSER LEBEN VERÄNDERN WIRD\, WENN WIR NACH HAUSE ZURÜCKKEHREN. \n  \nUnser Programm\nIch treffe Sie am Flughafen München und gemeinsam wir fliegen nach Tel Aviv . \nDort nehmen wir Auto  und fahren nach Haifa. \n1 Tag Haifa Unterkunft \nLink zur Unterkunft für 1 Nacht. \nUnterkunft Haifa \n2 Tag Wir besuchen Höhle des Propheten Ilja   und \nDie_Höhle_des_Propheten_Elija \nBahai-Garten in Haifa \nBahai-Garten \n3 Tag  Toten Meer Unterkunft \nHotel am Toten Meer \n3 Tag Besichtigung Ein Gedi   bis 15:00 möglich \nEin Gedi \n4/5  Ausflüge am Toten Meer auf Wunsch \n5 Tag Unterkunft Jerusalem \n6 Tag Jerusalem alt stadt  Stadt David  Tunnel \n7 Tag Jerusalem: Klagermauer\, Kirche des Heiligen Grabes\,   Hezekiah’s Tunnel (wenn nicht so kalt ist) \nHezekiah’s Tunnel \n  \nWir entdecken das historische Zentrum Jerusalems mit dem Tempelberg\, auf dem sich der Felsendom und die Al-Aqsa-Moschee befinden (Außenbesichtigung). Vom Ölberg aus genießen wir einen schönen Ausblick auf die Altstadt\, wir sehen die Kirche der Nationen im Garten von Gethsemane\, besuchen die Grabeskirche und folgen dem Kreuzweg auf der Via Dolorosa. Anschließend besuchen wir den arabischen Basar\, das jüdische Viertel und die beeindruckende Klagemauer. \nZusätzlich kann auf Wunsch auch folgendes gebucht werden: \nSound & Light Show: Das Spektakel in der Davidszitadelle erzählt Jerusalems bewegte und jahrtausendealte Geschichte. Bilder werden begleitet von Musik auf die Mauern der Davidszitadelle projiziert. Nutzen Sie die Gelegenheit zu einem stimmungsvollen Abend. / zusätzlich 25 € p. P. \n  \nAbflug nach München \nSelbstverständlich\, sind wir flexibel\, und können die  Ausflugsziele ihren persönlichen Wünschen anpassen. Sind Sie nicht interessiert an den Ausflügen\, können Sie natürlich\, ohne die Ausflugskosten zu tragen\, einfach am Meer bleiben und die Ruhe genießen \n  \nKosten pro Person\nReise 5- 7 Tage  \nKosten pro Person: Umg. 1320  Euro  \nSiebentägige Reise inklusive Unterkunft\, Flug\, Seminar\, Abendessen und Frühstück im Hotel. \nDie Ausflüge können vorab\, im Preis inbegriffen gebucht werden\, oder vor Ort bar bezahlt werden. \n  \nDIE ANZAHLUNG BETRÄGT 500 EURO. UM ALLES RECHTZEITIG ORGANISIEREN ZU KÖNNEN UND FÜR ALLE TEILNEHMER GUTE FLUGTICKETS ZU BEKOMMEN\, IST ES RATSAM\, DIE ANZAHLUNG SO BALD WIE MÖGLICH BIS ENDE JANUAR ZU LEISTEN. \nDEUTSCHKENNTNISSE SIND OBLIGATORISCH\, DA DIE GRUPPE DEUTSCHSPRACHIG IST. \nJEDE(R) KANDIDAT(IN) MUSS ZUNÄCHST EIN VORGESPRÄCH MIT DER LEITERIN FÜHREN. \nANMELDUNG FÜR MAI  UND VORGESPRÄCH TELEFONISCH UNTER +49 176 32525214: \nauch  WhatsApp \, weiber\, telegram. \n  \nSkype:  olli19716 \n  \nE mail : info.lightlandenergy@gmail.com \n  \n  \n
URL:https://light-land.com/event/israeltour/
ATTACH;FMTTYPE=image/jpeg:https://light-land.com/wp-content/uploads/2016/09/olga-foto-mertvoe-more.jpg
END:VEVENT
END:VCALENDAR